BEGIN:VCALENDAR
VERSION:2.0
PRODID:-//Rebelle-Santé - ECPv6.15.18//NONSGML v1.0//EN
CALSCALE:GREGORIAN
METHOD:PUBLISH
X-ORIGINAL-URL:https://www.rebelle-sante.com
X-WR-CALDESC:Évènements pour Rebelle-Santé
REFRESH-INTERVAL;VALUE=DURATION:PT1H
X-Robots-Tag:noindex
X-PUBLISHED-TTL:PT1H
BEGIN:VTIMEZONE
TZID:Europe/Paris
BEGIN:DAYLIGHT
TZOFFSETFROM:+0100
TZOFFSETTO:+0200
TZNAME:CEST
DTSTART:20220327T010000
END:DAYLIGHT
BEGIN:STANDARD
TZOFFSETFROM:+0200
TZOFFSETTO:+0100
TZNAME:CET
DTSTART:20221030T010000
END:STANDARD
BEGIN:DAYLIGHT
TZOFFSETFROM:+0100
TZOFFSETTO:+0200
TZNAME:CEST
DTSTART:20230326T010000
END:DAYLIGHT
BEGIN:STANDARD
TZOFFSETFROM:+0200
TZOFFSETTO:+0100
TZNAME:CET
DTSTART:20231029T010000
END:STANDARD
BEGIN:DAYLIGHT
TZOFFSETFROM:+0100
TZOFFSETTO:+0200
TZNAME:CEST
DTSTART:20240331T010000
END:DAYLIGHT
BEGIN:STANDARD
TZOFFSETFROM:+0200
TZOFFSETTO:+0100
TZNAME:CET
DTSTART:20241027T010000
END:STANDARD
END:VTIMEZONE
BEGIN:VEVENT
DTSTART;TZID=Europe/Paris:20230318T110000
DTEND;TZID=Europe/Paris:20230319T170000
DTSTAMP:20260423T075118
CREATED:20221221T091049Z
LAST-MODIFIED:20221221T091049Z
UID:56608-1679137200-1679245200@www.rebelle-sante.com
SUMMARY:Formation de Gemmothérapie (Macérats glycérinés)\, reconnaissance\, propriétés\, fabrication.
DESCRIPTION:Un week-end pour être autonome et savoir fabriquer et utiliser les macérats de bourgeons. \nEnseignement théorique: propriétés thérapeutiques et posologies. \nAteliers pratiques: reconnaissance des bourgeons sur le terrain\, clés de détermination. Cueillette de bourgeons et fabrication d’un macérat.
URL:https://www.rebelle-sante.com/evenement/formation-de-gemmotherapie-macerats-glycerines-reconnaissance-proprietes-fabrication/
LOCATION:Chalifert (77)\, Cabane & cabanons-17 chemin de Meaux\, Chalifert\, 77144
CATEGORIES:Formation
ATTACH;FMTTYPE=image/jpeg:https://www.rebelle-sante.com/wp-content/uploads/BOURGEON.jpg
ORGANIZER;CN="Association Communerbe":MAILTO:communerbe@gmail.com
END:VEVENT
END:VCALENDAR