BEGIN:VCALENDAR
VERSION:2.0
PRODID:-//Rebelle-Santé - ECPv6.15.18//NONSGML v1.0//EN
CALSCALE:GREGORIAN
METHOD:PUBLISH
X-WR-CALNAME:Rebelle-Santé
X-ORIGINAL-URL:https://www.rebelle-sante.com
X-WR-CALDESC:Évènements pour Rebelle-Santé
REFRESH-INTERVAL;VALUE=DURATION:PT1H
X-Robots-Tag:noindex
X-PUBLISHED-TTL:PT1H
BEGIN:VTIMEZONE
TZID:Europe/Paris
BEGIN:DAYLIGHT
TZOFFSETFROM:+0100
TZOFFSETTO:+0200
TZNAME:CEST
DTSTART:20220327T010000
END:DAYLIGHT
BEGIN:STANDARD
TZOFFSETFROM:+0200
TZOFFSETTO:+0100
TZNAME:CET
DTSTART:20221030T010000
END:STANDARD
BEGIN:DAYLIGHT
TZOFFSETFROM:+0100
TZOFFSETTO:+0200
TZNAME:CEST
DTSTART:20230326T010000
END:DAYLIGHT
BEGIN:STANDARD
TZOFFSETFROM:+0200
TZOFFSETTO:+0100
TZNAME:CET
DTSTART:20231029T010000
END:STANDARD
BEGIN:DAYLIGHT
TZOFFSETFROM:+0100
TZOFFSETTO:+0200
TZNAME:CEST
DTSTART:20240331T010000
END:DAYLIGHT
BEGIN:STANDARD
TZOFFSETFROM:+0200
TZOFFSETTO:+0100
TZNAME:CET
DTSTART:20241027T010000
END:STANDARD
BEGIN:DAYLIGHT
TZOFFSETFROM:+0100
TZOFFSETTO:+0200
TZNAME:CEST
DTSTART:20250330T010000
END:DAYLIGHT
BEGIN:STANDARD
TZOFFSETFROM:+0200
TZOFFSETTO:+0100
TZNAME:CET
DTSTART:20251026T010000
END:STANDARD
END:VTIMEZONE
BEGIN:VEVENT
DTSTART;TZID=Europe/Paris:20240107T180000
DTEND;TZID=Europe/Paris:20240107T200000
DTSTAMP:20260423T064251
CREATED:20231113T081855Z
LAST-MODIFIED:20231113T081855Z
UID:65127-1704650400-1704657600@www.rebelle-sante.com
SUMMARY:Shadow Yoga - Lecture-démonstration par Alexandra Hoàng Gilbert
DESCRIPTION:Une introduction au Shadow Yoga. \nL’origine et les fondements de cette discipline traditionnelle seront abordés\, ainsi que ses différences avec les systèmes actuels ou plus répandus en occident.  \nCertains outils seront expliqués et mis en pratique et un temps d’échange sera ouvert pour les questions.\nEntrée gratuite.\n \nInformations & inscriptions : chidambaram.yogashala@mailo.com\nSite internet : www.dragonyogashala.com
URL:https://www.rebelle-sante.com/evenement/shadow-yoga-lecture-demonstration-par-alexandra-hoang-gilbert-2/
LOCATION:Dojo Saint-Ambroise\, 6 rue de la Folie Méricourt\, Paris\, 75011\, France
CATEGORIES:Découverte
ATTACH;FMTTYPE=image/jpeg:https://www.rebelle-sante.com/wp-content/uploads/flyer-lec-dem-janvier-2024.jpg
ORGANIZER;CN="Association Chidambaram Yoga Shala":MAILTO:chidambaram.yogashala@mailo.com
END:VEVENT
BEGIN:VEVENT
DTSTART;TZID=Europe/Paris:20230910T180000
DTEND;TZID=Europe/Paris:20230910T193000
DTSTAMP:20260423T064251
CREATED:20230722T103030Z
LAST-MODIFIED:20230722T103030Z
UID:62539-1694368800-1694374200@www.rebelle-sante.com
SUMMARY:Shadow Yoga - Lecture-démonstration par Alexandra Hoàng Gilbert
DESCRIPTION:Une introduction au Shadow Yoga. \nL’origine et les fondements de cette discipline traditionnelle seront abordés\, ainsi que ses différences avec les systèmes actuels ou plus répandus en occident.  \nCertains outils seront expliqués et mis en pratique et un temps d’échange sera ouvert pour les questions. \nEntrée gratuite.
URL:https://www.rebelle-sante.com/evenement/shadow-yoga-lecture-demonstration-par-alexandra-hoang-gilbert/
LOCATION:Dojo Saint-Ambroise\, 6 rue de la Folie Méricourt\, Paris\, 75011\, France
CATEGORIES:Découverte
ATTACH;FMTTYPE=image/jpeg:https://www.rebelle-sante.com/wp-content/uploads/Image-Shadow-Yoga-scaled.jpg
ORGANIZER;CN="Association Chidambaram Yoga Shala":MAILTO:chidambaram.yogashala@mailo.com
END:VEVENT
END:VCALENDAR