BEGIN:VCALENDAR
VERSION:2.0
PRODID:-//Rebelle-Santé - ECPv6.15.18//NONSGML v1.0//EN
CALSCALE:GREGORIAN
METHOD:PUBLISH
X-WR-CALNAME:Rebelle-Santé
X-ORIGINAL-URL:https://www.rebelle-sante.com
X-WR-CALDESC:Évènements pour Rebelle-Santé
REFRESH-INTERVAL;VALUE=DURATION:PT1H
X-Robots-Tag:noindex
X-PUBLISHED-TTL:PT1H
BEGIN:VTIMEZONE
TZID:Europe/Paris
BEGIN:DAYLIGHT
TZOFFSETFROM:+0100
TZOFFSETTO:+0200
TZNAME:CEST
DTSTART:20210328T010000
END:DAYLIGHT
BEGIN:STANDARD
TZOFFSETFROM:+0200
TZOFFSETTO:+0100
TZNAME:CET
DTSTART:20211031T010000
END:STANDARD
BEGIN:DAYLIGHT
TZOFFSETFROM:+0100
TZOFFSETTO:+0200
TZNAME:CEST
DTSTART:20220327T010000
END:DAYLIGHT
BEGIN:STANDARD
TZOFFSETFROM:+0200
TZOFFSETTO:+0100
TZNAME:CET
DTSTART:20221030T010000
END:STANDARD
BEGIN:DAYLIGHT
TZOFFSETFROM:+0100
TZOFFSETTO:+0200
TZNAME:CEST
DTSTART:20230326T010000
END:DAYLIGHT
BEGIN:STANDARD
TZOFFSETFROM:+0200
TZOFFSETTO:+0100
TZNAME:CET
DTSTART:20231029T010000
END:STANDARD
BEGIN:DAYLIGHT
TZOFFSETFROM:+0100
TZOFFSETTO:+0200
TZNAME:CEST
DTSTART:20240331T010000
END:DAYLIGHT
BEGIN:STANDARD
TZOFFSETFROM:+0200
TZOFFSETTO:+0100
TZNAME:CET
DTSTART:20241027T010000
END:STANDARD
BEGIN:DAYLIGHT
TZOFFSETFROM:+0100
TZOFFSETTO:+0200
TZNAME:CEST
DTSTART:20250330T010000
END:DAYLIGHT
BEGIN:STANDARD
TZOFFSETFROM:+0200
TZOFFSETTO:+0100
TZNAME:CET
DTSTART:20251026T010000
END:STANDARD
BEGIN:DAYLIGHT
TZOFFSETFROM:+0100
TZOFFSETTO:+0200
TZNAME:CEST
DTSTART:20260329T010000
END:DAYLIGHT
BEGIN:STANDARD
TZOFFSETFROM:+0200
TZOFFSETTO:+0100
TZNAME:CET
DTSTART:20261025T010000
END:STANDARD
END:VTIMEZONE
BEGIN:VEVENT
DTSTART;VALUE=DATE:20251002
DTEND;VALUE=DATE:20251007
DTSTAMP:20260425T040925
CREATED:20250630T130237Z
LAST-MODIFIED:20250722T065944Z
UID:186777-1759363200-1759795199@www.rebelle-sante.com
SUMMARY:Salon ZEN
DESCRIPTION:L’équipe de Rebelle-Santé sera présente au Salon ZEN (stand G39)\ndu 2 au 6 octobre. \nTéléchargez une invitation gratuite
URL:https://www.rebelle-sante.com/evenement/salon-zen-3/
LOCATION:Espace Champerret\, 6\, rue Jean Oestreicher\, Paris\, 75017\, France
CATEGORIES:Salon
ATTACH;FMTTYPE=image/jpeg:https://www.rebelle-sante.com/wp-content/uploads/salon-zen-1.jpg
END:VEVENT
BEGIN:VEVENT
DTSTART;VALUE=DATE:20240926
DTEND;VALUE=DATE:20241001
DTSTAMP:20260425T040925
CREATED:20240718T125935Z
LAST-MODIFIED:20241125T140033Z
UID:114313-1727308800-1727740799@www.rebelle-sante.com
SUMMARY:Salon Zen
DESCRIPTION:Réservez une place gratuite !
URL:https://www.rebelle-sante.com/evenement/salon-zen-2/
LOCATION:Espace Champerret\, 6\, rue Jean Oestreicher\, Paris\, 75017\, France
CATEGORIES:Salon
ATTACH;FMTTYPE=image/jpeg:https://www.rebelle-sante.com/wp-content/uploads/salon-zen.jpg
END:VEVENT
BEGIN:VEVENT
DTSTART;VALUE=DATE:20230928
DTEND;VALUE=DATE:20231003
DTSTAMP:20260425T040925
CREATED:20230821T190028Z
LAST-MODIFIED:20230821T190501Z
UID:63171-1695859200-1696291199@www.rebelle-sante.com
SUMMARY:Salon Zen
DESCRIPTION:L’équipe de Rebelle-Santé sera présente au stand G48\nPassez nous voir !\n\nEntrée gratuite sur réservation :\nhttps://www.salon-zen.fr/
URL:https://www.rebelle-sante.com/evenement/salon-zen/
LOCATION:Espace Champerret\, 6\, rue Jean Oestreicher\, Paris\, 75017\, France
CATEGORIES:Salon
ATTACH;FMTTYPE=image/jpeg:https://www.rebelle-sante.com/wp-content/uploads/Affiche-Zen-2023.jpeg
END:VEVENT
BEGIN:VEVENT
DTSTART;VALUE=DATE:20220929
DTEND;VALUE=DATE:20221004
DTSTAMP:20260425T040925
CREATED:20220707T131123Z
LAST-MODIFIED:20220812T090804Z
UID:35082-1664409600-1664841599@www.rebelle-sante.com
SUMMARY:Salon Zen - Paris (75)
DESCRIPTION:Rebelle-Santé aura un stand au Salon Zen : G48\nVenez rencontrer l’équipe de Rebelle-Santé ! \n \nEntrée gratuite si vous réservez votre place :\nhttps://www.salon-zen.fr/entree-gratuite/\nEntrée à 8€ si vous l’achetez sur place.
URL:https://www.rebelle-sante.com/evenement/salon-zen-paris-75/
LOCATION:Espace Champerret\, 6\, rue Jean Oestreicher\, Paris\, 75017\, France
CATEGORIES:Salon
ATTACH;FMTTYPE=image/jpeg:https://www.rebelle-sante.com/wp-content/uploads/Zen.jpg
END:VEVENT
END:VCALENDAR