BEGIN:VCALENDAR
VERSION:2.0
PRODID:-//Rebelle-Santé - ECPv6.15.18//NONSGML v1.0//EN
CALSCALE:GREGORIAN
METHOD:PUBLISH
X-ORIGINAL-URL:https://www.rebelle-sante.com
X-WR-CALDESC:Évènements pour Rebelle-Santé
REFRESH-INTERVAL;VALUE=DURATION:PT1H
X-Robots-Tag:noindex
X-PUBLISHED-TTL:PT1H
BEGIN:VTIMEZONE
TZID:Europe/Paris
BEGIN:DAYLIGHT
TZOFFSETFROM:+0100
TZOFFSETTO:+0200
TZNAME:CEST
DTSTART:20210328T010000
END:DAYLIGHT
BEGIN:STANDARD
TZOFFSETFROM:+0200
TZOFFSETTO:+0100
TZNAME:CET
DTSTART:20211031T010000
END:STANDARD
BEGIN:DAYLIGHT
TZOFFSETFROM:+0100
TZOFFSETTO:+0200
TZNAME:CEST
DTSTART:20220327T010000
END:DAYLIGHT
BEGIN:STANDARD
TZOFFSETFROM:+0200
TZOFFSETTO:+0100
TZNAME:CET
DTSTART:20221030T010000
END:STANDARD
BEGIN:DAYLIGHT
TZOFFSETFROM:+0100
TZOFFSETTO:+0200
TZNAME:CEST
DTSTART:20230326T010000
END:DAYLIGHT
BEGIN:STANDARD
TZOFFSETFROM:+0200
TZOFFSETTO:+0100
TZNAME:CET
DTSTART:20231029T010000
END:STANDARD
BEGIN:DAYLIGHT
TZOFFSETFROM:+0100
TZOFFSETTO:+0200
TZNAME:CEST
DTSTART:20240331T010000
END:DAYLIGHT
BEGIN:STANDARD
TZOFFSETFROM:+0200
TZOFFSETTO:+0100
TZNAME:CET
DTSTART:20241027T010000
END:STANDARD
END:VTIMEZONE
BEGIN:VEVENT
DTSTART;VALUE=DATE:20230311
DTEND;VALUE=DATE:20230313
DTSTAMP:20260423T070705
CREATED:20230203T120805Z
LAST-MODIFIED:20230203T120805Z
UID:58145-1678492800-1678665599@www.rebelle-sante.com
SUMMARY:Salon du bien-être et de la vitalité
DESCRIPTION:L’association En Vie & Go organise le 8ème salon du bien-être de Truchtersheim. \nRetrouvez les 60 professionnels du salon qui vous renseigneront tout le week-end sur les thérapies\, coaching\, soins\, produits qu’ils vous proposent pour plus de bien-être\, d’énergie\, de vitalité ! \nUne invitée d’honneur cette année\, Sabine Trensz : photographe engagée dans la cause animale et environnementale qui vous partagera sa passion pour les animaux et la planète à travers notamment une exposition photo\, la dédicace de son livre et lors des 2 conférences qu’elle animera ce week-end. Nous sommes honorés de l’accueillir !  \nUn planning de conférences toujours très riche à découvrir sur notre site internet ou sur notre page Facebook. \nRéservez votre journée/week-end  : ici\, on passe du temps\, on échange\, on se fait masser\, chouchouter\, on déguste\, on prend le temps !  \nUn service de restauration tout le week-end ravira les plus gourmands ! \nAu plaisir de vous y rencontrer ! \nVéronique\, Stéphanie & Guillaume \nAssociation En Vie & Go
URL:https://www.rebelle-sante.com/evenement/salon-du-bien-etre-et-de-la-vitalite/
LOCATION:Espace Terminus\, 20A Rue de la Gare\, Truchtersheim\, 67370\, France
CATEGORIES:Salon
ATTACH;FMTTYPE=image/png:https://www.rebelle-sante.com/wp-content/uploads/affiche-2023-1.pdf.png
ORGANIZER;CN="association En Vie &amp%3B Go":MAILTO:infosalon67@gmail.com
END:VEVENT
BEGIN:VEVENT
DTSTART;VALUE=DATE:20221015
DTEND;VALUE=DATE:20221017
DTSTAMP:20260423T070705
CREATED:20220908T091320Z
LAST-MODIFIED:20220908T091320Z
UID:52473-1665792000-1665964799@www.rebelle-sante.com
SUMMARY:Salon bien-être et vitalité
DESCRIPTION:
URL:https://www.rebelle-sante.com/evenement/salon-bien-etre-et-vitalite/
LOCATION:Espace Terminus\, 20A Rue de la Gare\, Truchtersheim\, 67370\, France
CATEGORIES:Salon
ATTACH;FMTTYPE=image/webp:https://www.rebelle-sante.com/wp-content/uploads/affiche-octobre-2022.jpeg.webp
ORGANIZER;CN="En vie & go":MAILTO:infosalon67@gmail.com
END:VEVENT
END:VCALENDAR