BEGIN:VCALENDAR
VERSION:2.0
PRODID:-//Rebelle-Santé - ECPv6.15.18//NONSGML v1.0//EN
CALSCALE:GREGORIAN
METHOD:PUBLISH
X-ORIGINAL-URL:https://www.rebelle-sante.com
X-WR-CALDESC:Évènements pour Rebelle-Santé
REFRESH-INTERVAL;VALUE=DURATION:PT1H
X-Robots-Tag:noindex
X-PUBLISHED-TTL:PT1H
BEGIN:VTIMEZONE
TZID:Europe/Paris
BEGIN:DAYLIGHT
TZOFFSETFROM:+0100
TZOFFSETTO:+0200
TZNAME:CEST
DTSTART:20210328T010000
END:DAYLIGHT
BEGIN:STANDARD
TZOFFSETFROM:+0200
TZOFFSETTO:+0100
TZNAME:CET
DTSTART:20211031T010000
END:STANDARD
BEGIN:DAYLIGHT
TZOFFSETFROM:+0100
TZOFFSETTO:+0200
TZNAME:CEST
DTSTART:20220327T010000
END:DAYLIGHT
BEGIN:STANDARD
TZOFFSETFROM:+0200
TZOFFSETTO:+0100
TZNAME:CET
DTSTART:20221030T010000
END:STANDARD
BEGIN:DAYLIGHT
TZOFFSETFROM:+0100
TZOFFSETTO:+0200
TZNAME:CEST
DTSTART:20230326T010000
END:DAYLIGHT
BEGIN:STANDARD
TZOFFSETFROM:+0200
TZOFFSETTO:+0100
TZNAME:CET
DTSTART:20231029T010000
END:STANDARD
BEGIN:DAYLIGHT
TZOFFSETFROM:+0100
TZOFFSETTO:+0200
TZNAME:CEST
DTSTART:20240331T010000
END:DAYLIGHT
BEGIN:STANDARD
TZOFFSETFROM:+0200
TZOFFSETTO:+0100
TZNAME:CET
DTSTART:20241027T010000
END:STANDARD
END:VTIMEZONE
BEGIN:VEVENT
DTSTART;TZID=Europe/Paris:20231124T100000
DTEND;TZID=Europe/Paris:20231126T190000
DTSTAMP:20260423T085603
CREATED:20231109T072242Z
LAST-MODIFIED:20231109T072242Z
UID:64781-1700820000-1701025200@www.rebelle-sante.com
SUMMARY:Salon Bien-être Bio & Thérapies
DESCRIPTION:La nouvelle édition du Salon du Bien Être\, Bio & Thérapies de Bordeaux revient au Palais des Congrès au Lac \n  \nZen\, restons zen… grâce au Salon du Bien Être\, Bio & Thérapies \nCette 9e édition du salon se tiendra au plus près du centre-ville de Bordeaux\, au Palais des Congrès du 24 au 26 Novembre 2023 à Bordeaux Lac. \nAvec près de 150 exposants\, des conférences\, des ateliers reliés aux bien-être\, au Bio et aux médecines douces et un programme\, toujours renouvelé\, une multitude d’exposants\, de démonstrations qui\, durant trois jours délivreront le panorama le plus complet des thématiques liées au bien-être aux produits bio et aux médecines douces. \n  \n5 zones pour retrouver la paix intérieure \nC’est une invitation Zen\, à faire une pause\, (et on en a besoin !) que propose ce Salon. \nA travers ses différents espaces (Alimentation\, healthy\, Santé/Beauté\, Bien Être/Maison\, Art et Spiritualité\, Formations\, Thérapies & Arts Divinatoires)\, conseils et soutien seront prodigués pour retrouver un confort physique ou émotionnel. Produits et techniques dédié au développement personnel\, produits bio alimentaire ou cosmétiques\, tous les experts de ces thèmes seront là pour vous guider. \n  \n« Chaque Exposants\, conférencier\, écrivains et chercheur présent durant ces trois jours\, ont pour point commun la volonté d’aider son prochain à retrouver la paix intérieure. Au sein des allées comme sur scène\, les intervenants présenteront\, ainsi des pistes de réflexion et des solutions d’accompagnement pour vous faciliter la vie. » \n  \nChaque année depuis 8 ans\, des cycles de conférences sont offerts au public sur des thèmes variés et passionnant avec en 2023 : l’auteure à succès Serge Boutboul\, Natacha Calestrémé\, Harry Roselmac\,  le Chercheur de l’inexplicable Patrice Marty… et chaque soir des concerts Zen\, viendront ponctuer ces journées\, suivie d’un Tombola Quotidienne. \n  \nEn savoir plus : \nLieu : Palais des Congrès / Av. Jean Gabriel Domergue / 33300 Bordeaux \nHoraire : Ouvert Vendredi et Samedi de 10h à 19h / Dimanche de 10h à 18h / Dernière entrée 30 minutes avant la fin du salon. \nEntrée : 3€ / gratuit pour les mineurs \nSur Place\, Restauration « healthy » pour manger sain et varié : Bio et/ou végétarienne. \nParking gratuit \nhttps://www.SalonBienEtreBordeaux.com \nhttps://www.facebook.com/salonbienetrebiotherapies
URL:https://www.rebelle-sante.com/evenement/salon-bien-etre-bio-therapies-2/
LOCATION:Palais des Congrès – Bordeaux\, Avenue Jean Gabriel Domergue\, Bordeaux\, 33300\, France
CATEGORIES:Salon
ATTACH;FMTTYPE=image/jpeg:https://www.rebelle-sante.com/wp-content/uploads/BANDE-MAILING-Bordeaux2023.jpg
ORGANIZER;CN="STAR COM":MAILTO:agencestarcom@yahoo.fr
END:VEVENT
BEGIN:VEVENT
DTSTART;VALUE=DATE:20221125
DTEND;VALUE=DATE:20221128
DTSTAMP:20260423T085603
CREATED:20221029T084859Z
LAST-MODIFIED:20221029T085131Z
UID:54940-1669334400-1669593599@www.rebelle-sante.com
SUMMARY:Salon Bien-Être\, Bio & Thérapies
DESCRIPTION:
URL:https://www.rebelle-sante.com/evenement/salon-bien-etre-bio-therapies/
LOCATION:Palais des Congrès – Bordeaux\, Avenue Jean Gabriel Domergue\, Bordeaux\, 33300\, France
CATEGORIES:Salon
ATTACH;FMTTYPE=image/webp:https://www.rebelle-sante.com/wp-content/uploads/salon-bien-etre-bordeaux.webp
END:VEVENT
END:VCALENDAR