BEGIN:VCALENDAR
VERSION:2.0
PRODID:-//Rebelle-Santé - ECPv6.15.18//NONSGML v1.0//EN
CALSCALE:GREGORIAN
METHOD:PUBLISH
X-ORIGINAL-URL:https://www.rebelle-sante.com
X-WR-CALDESC:Évènements pour Rebelle-Santé
REFRESH-INTERVAL;VALUE=DURATION:PT1H
X-Robots-Tag:noindex
X-PUBLISHED-TTL:PT1H
BEGIN:VTIMEZONE
TZID:Europe/Paris
BEGIN:DAYLIGHT
TZOFFSETFROM:+0100
TZOFFSETTO:+0200
TZNAME:CEST
DTSTART:20210328T010000
END:DAYLIGHT
BEGIN:STANDARD
TZOFFSETFROM:+0200
TZOFFSETTO:+0100
TZNAME:CET
DTSTART:20211031T010000
END:STANDARD
BEGIN:DAYLIGHT
TZOFFSETFROM:+0100
TZOFFSETTO:+0200
TZNAME:CEST
DTSTART:20220327T010000
END:DAYLIGHT
BEGIN:STANDARD
TZOFFSETFROM:+0200
TZOFFSETTO:+0100
TZNAME:CET
DTSTART:20221030T010000
END:STANDARD
BEGIN:DAYLIGHT
TZOFFSETFROM:+0100
TZOFFSETTO:+0200
TZNAME:CEST
DTSTART:20230326T010000
END:DAYLIGHT
BEGIN:STANDARD
TZOFFSETFROM:+0200
TZOFFSETTO:+0100
TZNAME:CET
DTSTART:20231029T010000
END:STANDARD
BEGIN:DAYLIGHT
TZOFFSETFROM:+0100
TZOFFSETTO:+0200
TZNAME:CEST
DTSTART:20240331T010000
END:DAYLIGHT
BEGIN:STANDARD
TZOFFSETFROM:+0200
TZOFFSETTO:+0100
TZNAME:CET
DTSTART:20241027T010000
END:STANDARD
BEGIN:DAYLIGHT
TZOFFSETFROM:+0100
TZOFFSETTO:+0200
TZNAME:CEST
DTSTART:20250330T010000
END:DAYLIGHT
BEGIN:STANDARD
TZOFFSETFROM:+0200
TZOFFSETTO:+0100
TZNAME:CET
DTSTART:20251026T010000
END:STANDARD
BEGIN:DAYLIGHT
TZOFFSETFROM:+0100
TZOFFSETTO:+0200
TZNAME:CEST
DTSTART:20260329T010000
END:DAYLIGHT
BEGIN:STANDARD
TZOFFSETFROM:+0200
TZOFFSETTO:+0100
TZNAME:CET
DTSTART:20261025T010000
END:STANDARD
END:VTIMEZONE
BEGIN:VEVENT
DTSTART;VALUE=DATE:20251107
DTEND;VALUE=DATE:20251112
DTSTAMP:20260425T023854
CREATED:20250823T153911Z
LAST-MODIFIED:20250823T154020Z
UID:195276-1762473600-1762905599@www.rebelle-sante.com
SUMMARY:Salon Marjolaine
DESCRIPTION:L’équipe de Rebelle-Santé sera présente au salon. Passez nous voir ! \nPour obtenir une entrée à tarif réduit\, cliquez ici !
URL:https://www.rebelle-sante.com/evenement/salon-marjolaine-2/
LOCATION:Parc Floral\, 26 Route du Champ de Manoeuvre\, Paris\, 75012\, France
CATEGORIES:Salon
ATTACH;FMTTYPE=image/png:https://www.rebelle-sante.com/wp-content/uploads/affiche-marjolaine-2025.png
END:VEVENT
BEGIN:VEVENT
DTSTART;VALUE=DATE:20250314
DTEND;VALUE=DATE:20250318
DTSTAMP:20260425T023854
CREATED:20250210T100800Z
LAST-MODIFIED:20250210T101220Z
UID:152175-1741910400-1742255999@www.rebelle-sante.com
SUMMARY:Salon Vivre autrement
DESCRIPTION:Retrouvez l’équipe de Rebelle-Santé au stand K24 \n\nRéservez votre entrée gratuite
URL:https://www.rebelle-sante.com/evenement/salon-vivre-autrement-3/
LOCATION:Parc Floral\, 26 Route du Champ de Manoeuvre\, Paris\, 75012\, France
CATEGORIES:Salon
ATTACH;FMTTYPE=image/jpeg:https://www.rebelle-sante.com/wp-content/uploads/ban-va-2025-300x250-1.jpg
END:VEVENT
BEGIN:VEVENT
DTSTART;TZID=Europe/Paris:20241106T100000
DTEND;TZID=Europe/Paris:20241111T190000
DTSTAMP:20260425T023854
CREATED:20240820T132059Z
LAST-MODIFIED:20240828T100308Z
UID:118902-1730887200-1731351600@www.rebelle-sante.com
SUMMARY:Salon Marjolaine
DESCRIPTION:Réservez votre entrée à tarif réduit
URL:https://www.rebelle-sante.com/evenement/salon-marjolaine-2024/
LOCATION:Parc Floral\, 26 Route du Champ de Manoeuvre\, Paris\, 75012\, France
CATEGORIES:Salon
ATTACH;FMTTYPE=image/jpeg:https://www.rebelle-sante.com/wp-content/uploads/ban-marjo24.jpeg
END:VEVENT
BEGIN:VEVENT
DTSTART;TZID=Europe/Paris:20240315T103000
DTEND;TZID=Europe/Paris:20240318T180000
DTSTAMP:20260425T023854
CREATED:20240123T221518Z
LAST-MODIFIED:20240123T221934Z
UID:68611-1710498600-1710784800@www.rebelle-sante.com
SUMMARY:Salon Vivre autrement
DESCRIPTION:L’équipe de Rebelle-Santé sera présente au Salon Vivre autrement \n \nEntrée gratuite sur réservation
URL:https://www.rebelle-sante.com/evenement/salon-vivre-autrement-2/
LOCATION:Parc Floral\, 26 Route du Champ de Manoeuvre\, Paris\, 75012\, France
CATEGORIES:Salon
ATTACH;FMTTYPE=image/jpeg:https://www.rebelle-sante.com/wp-content/uploads/affiche_vivre_autrement1_page-0001.jpg
END:VEVENT
BEGIN:VEVENT
DTSTART;TZID=Europe/Paris:20231108T080000
DTEND;TZID=Europe/Paris:20231112T190000
DTSTAMP:20260425T023854
CREATED:20231109T073352Z
LAST-MODIFIED:20231109T073352Z
UID:64849-1699430400-1699815600@www.rebelle-sante.com
SUMMARY:Salon Marjolaine
DESCRIPTION:L’équipe de Rebelle-Santé sera présente au stand H37\nPassez nous voir !\n \nEntrée à prix réduit sur réservation :\nhttps://www.salon-marjolaine.com/
URL:https://www.rebelle-sante.com/evenement/salon-marjolaine/
LOCATION:Parc Floral\, 26 Route du Champ de Manoeuvre\, Paris\, 75012\, France
CATEGORIES:Salon
ATTACH;FMTTYPE=image/jpeg:https://www.rebelle-sante.com/wp-content/uploads/Post-RS-Marjolaine-2023-768x768-1.jpg
END:VEVENT
BEGIN:VEVENT
DTSTART;VALUE=DATE:20230317
DTEND;VALUE=DATE:20230321
DTSTAMP:20260425T023854
CREATED:20230123T192709Z
LAST-MODIFIED:20230313T123229Z
UID:57754-1679011200-1679356799@www.rebelle-sante.com
SUMMARY:Salon Vivre autrement
DESCRIPTION:Retrouvez Rebelle-Santé au stand J2
URL:https://www.rebelle-sante.com/evenement/salon-vivre-autrement/
LOCATION:Parc Floral\, 26 Route du Champ de Manoeuvre\, Paris\, 75012\, France
CATEGORIES:Salon
ATTACH;FMTTYPE=image/jpeg:https://www.rebelle-sante.com/wp-content/uploads/on-y-sera-2-2.jpeg
END:VEVENT
BEGIN:VEVENT
DTSTART;VALUE=DATE:20221105
DTEND;VALUE=DATE:20221114
DTSTAMP:20260425T023854
CREATED:20221012T091224Z
LAST-MODIFIED:20221012T091224Z
UID:53993-1667606400-1668383999@www.rebelle-sante.com
SUMMARY:Salon Marjolaine Bio
DESCRIPTION:Rebelle-Santé aura un stand au Salon Marjolaine Bio : Pavillon 2.18\nVenez rencontrer l’équipe de Rebelle-Santé !\n \nEntrée à 7€ si vous réservez votre place :\nhttps://www.salon-marjolaine.com/\nEntrée à 10€ si vous l’achetez sur place.
URL:https://www.rebelle-sante.com/evenement/salon-marjolaine-bio/
LOCATION:Parc Floral\, 26 Route du Champ de Manoeuvre\, Paris\, 75012\, France
CATEGORIES:Salon
ATTACH;FMTTYPE=image/jpeg:https://www.rebelle-sante.com/wp-content/uploads/HD-AFF-MARJO22-A4-3.jpg
END:VEVENT
END:VCALENDAR