BEGIN:VCALENDAR
VERSION:2.0
PRODID:-//Rebelle-Santé - ECPv6.15.18//NONSGML v1.0//EN
CALSCALE:GREGORIAN
METHOD:PUBLISH
X-WR-CALNAME:Rebelle-Santé
X-ORIGINAL-URL:https://www.rebelle-sante.com
X-WR-CALDESC:Évènements pour Rebelle-Santé
REFRESH-INTERVAL;VALUE=DURATION:PT1H
X-Robots-Tag:noindex
X-PUBLISHED-TTL:PT1H
BEGIN:VTIMEZONE
TZID:Europe/Paris
BEGIN:DAYLIGHT
TZOFFSETFROM:+0100
TZOFFSETTO:+0200
TZNAME:CEST
DTSTART:20220327T010000
END:DAYLIGHT
BEGIN:STANDARD
TZOFFSETFROM:+0200
TZOFFSETTO:+0100
TZNAME:CET
DTSTART:20221030T010000
END:STANDARD
BEGIN:DAYLIGHT
TZOFFSETFROM:+0100
TZOFFSETTO:+0200
TZNAME:CEST
DTSTART:20230326T010000
END:DAYLIGHT
BEGIN:STANDARD
TZOFFSETFROM:+0200
TZOFFSETTO:+0100
TZNAME:CET
DTSTART:20231029T010000
END:STANDARD
BEGIN:DAYLIGHT
TZOFFSETFROM:+0100
TZOFFSETTO:+0200
TZNAME:CEST
DTSTART:20240331T010000
END:DAYLIGHT
BEGIN:STANDARD
TZOFFSETFROM:+0200
TZOFFSETTO:+0100
TZNAME:CET
DTSTART:20241027T010000
END:STANDARD
END:VTIMEZONE
BEGIN:VEVENT
DTSTART;TZID=Europe/Paris:20231210T140000
DTEND;TZID=Europe/Paris:20231210T170000
DTSTAMP:20260423T051530
CREATED:20231026T103351Z
LAST-MODIFIED:20231026T103351Z
UID:64613-1702216800-1702227600@www.rebelle-sante.com
SUMMARY:Quid du changement climatique
DESCRIPTION:[Animation !] \nPas toujours facile de comprendre ce qu’est le changement climatique et les sujets qui y sont liés. Ses causes\, ses impacts\, les petits gestes\, abordons tout cela ensemble lors d’une conférence en ayant un objectif : vulgariser le changement climatique\, et voir son impact à notre échelle. \nVenez nombreux pour rencontrer Christophe Parisot du CEN Île-de-France et François Mercier du PIREN Seine. \nLe dimanche 10 décembre\, de 14h à 17h à la salle des fêtes de Bray sur Seine (77480) \n👉 Animation gratuite\, accessible aux enfants dès 10 ans\n🔸 Inscriptions (non obligatoires mais conseillées) par téléphone au 01 64 00 06 23\, par mail à animation.labassee@espaces-naturels.fr ou sur notre site internet.
URL:https://www.rebelle-sante.com/evenement/quid-du-changement-climatique/
LOCATION:salle des fêtes de Bray sur seine\, 47 Rue Jules Ferry\, Bray-sur-Seine\, 77480
CATEGORIES:Conférence,Découverte
ATTACH;FMTTYPE=image/png:https://www.rebelle-sante.com/wp-content/uploads/Dimanche-10-decembre.png
END:VEVENT
END:VCALENDAR