BEGIN:VCALENDAR
VERSION:2.0
PRODID:-//Rebelle-Santé - ECPv6.15.18//NONSGML v1.0//EN
CALSCALE:GREGORIAN
METHOD:PUBLISH
X-ORIGINAL-URL:https://www.rebelle-sante.com
X-WR-CALDESC:Évènements pour Rebelle-Santé
REFRESH-INTERVAL;VALUE=DURATION:PT1H
X-Robots-Tag:noindex
X-PUBLISHED-TTL:PT1H
BEGIN:VTIMEZONE
TZID:Europe/Paris
BEGIN:DAYLIGHT
TZOFFSETFROM:+0100
TZOFFSETTO:+0200
TZNAME:CEST
DTSTART:20230326T010000
END:DAYLIGHT
BEGIN:STANDARD
TZOFFSETFROM:+0200
TZOFFSETTO:+0100
TZNAME:CET
DTSTART:20231029T010000
END:STANDARD
BEGIN:DAYLIGHT
TZOFFSETFROM:+0100
TZOFFSETTO:+0200
TZNAME:CEST
DTSTART:20240331T010000
END:DAYLIGHT
BEGIN:STANDARD
TZOFFSETFROM:+0200
TZOFFSETTO:+0100
TZNAME:CET
DTSTART:20241027T010000
END:STANDARD
BEGIN:DAYLIGHT
TZOFFSETFROM:+0100
TZOFFSETTO:+0200
TZNAME:CEST
DTSTART:20250330T010000
END:DAYLIGHT
BEGIN:STANDARD
TZOFFSETFROM:+0200
TZOFFSETTO:+0100
TZNAME:CET
DTSTART:20251026T010000
END:STANDARD
END:VTIMEZONE
BEGIN:VEVENT
DTSTART;TZID=Europe/Paris:20240921T100000
DTEND;TZID=Europe/Paris:20240921T163000
DTSTAMP:20260425T025124
CREATED:20240718T124840Z
LAST-MODIFIED:20240718T125324Z
UID:114190-1726912800-1726936200@www.rebelle-sante.com
SUMMARY:Rencontre/échanges "La compétence du patient"
DESCRIPTION:« La compétence du patient » \nUniquement en présentiel\nOuvert à tous \nSamedi 21 septembre 2024 de 10h à 16h30 \nCet atelier a pour but de regarder ensemble comment solliciter ses compétences\, à tous les niveaux\, dans une situation de maladie\, comment développer l’activité personnelle et le faire dans un équilibre entre le respect des protocoles de soins et la mise en mouvement de ses propres forces\, c’est-à-dire aussi dans une collaboration fructueuse avec les soignants.\nNous aimerions que se développe ainsi une dynamique sur place\, un groupe relais de personnes intéressées par la santé en lien avec l’association. \nProgramme\n10h00-10h30 : gymnastique Bothmer et présentation de la journée\n10h30-11h15 : introduction au thème par Jessie Delage\n11h30-12h30 : échanges dans le cercle\n12h30-14h00 : repas tiré du sac\n14h00-15h00 : échanges en petits groupes sur le sujet\n15h00-15h15 : gymnastique Bothmer\n15h15-16h30 : échanges dans le grand groupe et conclusion \nParticipation aux frais d’organisation : à partir de 10€ \nLieu : Société Anthroposophique Française\n2 Rue de la Grande Chaumière\, 75006 Paris \nL’APMA s’est fondée sur la défense du libre choix thérapeutique. Elle promeut la médecine anthroposophique qui se met au service de la personne sur son chemin de guérison\, en plaçant son individualité au centre de ce parcours. \nOrganisé par l’APMA\nAssociation de Patients de la médecine Anthroposophique | 13 rue Gassendi | 75014 PARIS\nTéléphone | 01 40 47 03 53 | contact@apma.fr | www.apma.fr 
URL:https://www.rebelle-sante.com/evenement/rencontre-echanges-la-competence-du-patient/
LOCATION:Société anthroposophique française\, 2 Rue de la Grande Chaumière\, Paris\, 75006
CATEGORIES:Colloque
ATTACH;FMTTYPE=image/jpeg:https://www.rebelle-sante.com/wp-content/uploads/are-michael-7092961_1280-2.jpg
ORGANIZER;CN="APMA. Association de Patients de la M%C3%A9decine Anthroposophique":MAILTO:contact@apma.fr
END:VEVENT
END:VCALENDAR