BEGIN:VCALENDAR
VERSION:2.0
PRODID:-//Rebelle-Santé - ECPv6.15.18//NONSGML v1.0//EN
CALSCALE:GREGORIAN
METHOD:PUBLISH
X-ORIGINAL-URL:https://www.rebelle-sante.com
X-WR-CALDESC:Évènements pour Rebelle-Santé
REFRESH-INTERVAL;VALUE=DURATION:PT1H
X-Robots-Tag:noindex
X-PUBLISHED-TTL:PT1H
BEGIN:VTIMEZONE
TZID:Europe/Paris
BEGIN:DAYLIGHT
TZOFFSETFROM:+0100
TZOFFSETTO:+0200
TZNAME:CEST
DTSTART:20240331T010000
END:DAYLIGHT
BEGIN:STANDARD
TZOFFSETFROM:+0200
TZOFFSETTO:+0100
TZNAME:CET
DTSTART:20241027T010000
END:STANDARD
BEGIN:DAYLIGHT
TZOFFSETFROM:+0100
TZOFFSETTO:+0200
TZNAME:CEST
DTSTART:20250330T010000
END:DAYLIGHT
BEGIN:STANDARD
TZOFFSETFROM:+0200
TZOFFSETTO:+0100
TZNAME:CET
DTSTART:20251026T010000
END:STANDARD
BEGIN:DAYLIGHT
TZOFFSETFROM:+0100
TZOFFSETTO:+0200
TZNAME:CEST
DTSTART:20260329T010000
END:DAYLIGHT
BEGIN:STANDARD
TZOFFSETFROM:+0200
TZOFFSETTO:+0100
TZNAME:CET
DTSTART:20261025T010000
END:STANDARD
END:VTIMEZONE
BEGIN:VEVENT
DTSTART;TZID=Europe/Paris:20250321T100000
DTEND;TZID=Europe/Paris:20250323T183000
DTSTAMP:20260425T005548
CREATED:20250128T205658Z
LAST-MODIFIED:20250128T205658Z
UID:149770-1742551200-1742754600@www.rebelle-sante.com
SUMMARY:Retraite Révéler son Plein Potentiel
DESCRIPTION:Une retraite de 3 jours en Seine-et-Marne pour aller à la rencontre des parts de soi qui sont blessées\, occultées\, les mettre en lumière dans\nla joie et le partage\, sans jugement. Vous vous allégez de tout ce qui vous pèse et dont vous n’avez plus besoin. Comme la nature a horreur du vide\, en vous libérant de ces schémas répétitifs liés au passé\, vous ouvrez en vous de nouveaux espaces et créez un futur\, en adéquation avec votre mission de vie. \nLes pratiques proposées sont des méditations actives\, des pratiques respiratoires ou énergétiques\, de la danse\, des jeux\, des rencontres de soi au travers de l’autre\, ainsi que des temps de paroles pour mettre des mots sur vos ressentis et ancrer l’expérience dans la conscience. En ouvrant votre cœur\, vous écoutez votre intuition pour faire les bons choix\, posez vos limites et vous aligner davantage sur votre nature profonde. Il s’agira de se laisser traverser par les émotions sans interpréter\, calmer le mental\, laisser l’énergie se libérer et circuler en vous pour vivre l’instant présent.
URL:https://www.rebelle-sante.com/evenement/retraite-reveler-son-plein-potentiel/
LOCATION:Verdelot\, Le Mont\, Verdelot\, 77510
ATTACH;FMTTYPE=image/jpeg:https://www.rebelle-sante.com/wp-content/uploads/flyer-retraite-mars-2025_2.jpg
END:VEVENT
END:VCALENDAR