BEGIN:VCALENDAR
VERSION:2.0
PRODID:-//Rebelle-Santé - ECPv6.15.18//NONSGML v1.0//EN
CALSCALE:GREGORIAN
METHOD:PUBLISH
X-WR-CALNAME:Rebelle-Santé
X-ORIGINAL-URL:https://www.rebelle-sante.com
X-WR-CALDESC:Évènements pour Rebelle-Santé
REFRESH-INTERVAL;VALUE=DURATION:PT1H
X-Robots-Tag:noindex
X-PUBLISHED-TTL:PT1H
BEGIN:VTIMEZONE
TZID:Europe/Paris
BEGIN:DAYLIGHT
TZOFFSETFROM:+0100
TZOFFSETTO:+0200
TZNAME:CEST
DTSTART:20220327T010000
END:DAYLIGHT
BEGIN:STANDARD
TZOFFSETFROM:+0200
TZOFFSETTO:+0100
TZNAME:CET
DTSTART:20221030T010000
END:STANDARD
BEGIN:DAYLIGHT
TZOFFSETFROM:+0100
TZOFFSETTO:+0200
TZNAME:CEST
DTSTART:20230326T010000
END:DAYLIGHT
BEGIN:STANDARD
TZOFFSETFROM:+0200
TZOFFSETTO:+0100
TZNAME:CET
DTSTART:20231029T010000
END:STANDARD
BEGIN:DAYLIGHT
TZOFFSETFROM:+0100
TZOFFSETTO:+0200
TZNAME:CEST
DTSTART:20240331T010000
END:DAYLIGHT
BEGIN:STANDARD
TZOFFSETFROM:+0200
TZOFFSETTO:+0100
TZNAME:CET
DTSTART:20241027T010000
END:STANDARD
BEGIN:DAYLIGHT
TZOFFSETFROM:+0100
TZOFFSETTO:+0200
TZNAME:CEST
DTSTART:20250330T010000
END:DAYLIGHT
BEGIN:STANDARD
TZOFFSETFROM:+0200
TZOFFSETTO:+0100
TZNAME:CET
DTSTART:20251026T010000
END:STANDARD
END:VTIMEZONE
BEGIN:VEVENT
DTSTART;TZID=Europe/Paris:20241123T100000
DTEND;TZID=Europe/Paris:20241123T173000
DTSTAMP:20260423T053830
CREATED:20240906T163842Z
LAST-MODIFIED:20240919T103012Z
UID:121037-1732356000-1732383000@www.rebelle-sante.com
SUMMARY:Conférence-atelier : “La mort et le passage du seuil\, une biographie cosmique”
DESCRIPTION:Conférence-atelier sur la biographie : « La mort et le passage du seuil\, une biographie cosmique » \nSamedi 23 novembre 2024 de 10h à 17h30\nau Centre de Santé Saint-Jacques – 75015 Paris \nJournée organisée par l’association de patients de médecine anthroposophique (APMA)\, animée par Patricia Gnaedig\, accompagnante biographique. \nUniquement en présentiel. \nInscription obligatoire pour la conférence du matin ou pour toute la journée pour la conférence/atelier. \nRenseignements : APMA : 01 40 47 03 53 – www.apma.fr
URL:https://www.rebelle-sante.com/evenement/conference-atelier-sur-la-biographie-la-mort-et-le-passage-du-seuil-une-biographie-cosmique/
LOCATION:Centre de santé Saint-Jacques\, Centre de santé Saint-Jacques 37 rue des Volontaires\, Paris\, 75015\, France
ATTACH;FMTTYPE=image/jpeg:https://www.rebelle-sante.com/wp-content/uploads/hieronymus_bosch_013-redimensionnee-2.jpg
ORGANIZER;CN="APMA. Association de Patients de la M%C3%A9decine Anthroposophique":MAILTO:contact@apma.fr
END:VEVENT
BEGIN:VEVENT
DTSTART;TZID=Europe/Paris:20240921T100000
DTEND;TZID=Europe/Paris:20240921T163000
DTSTAMP:20260423T053830
CREATED:20240718T124840Z
LAST-MODIFIED:20240718T125324Z
UID:114190-1726912800-1726936200@www.rebelle-sante.com
SUMMARY:Rencontre/échanges "La compétence du patient"
DESCRIPTION:« La compétence du patient » \nUniquement en présentiel\nOuvert à tous \nSamedi 21 septembre 2024 de 10h à 16h30 \nCet atelier a pour but de regarder ensemble comment solliciter ses compétences\, à tous les niveaux\, dans une situation de maladie\, comment développer l’activité personnelle et le faire dans un équilibre entre le respect des protocoles de soins et la mise en mouvement de ses propres forces\, c’est-à-dire aussi dans une collaboration fructueuse avec les soignants.\nNous aimerions que se développe ainsi une dynamique sur place\, un groupe relais de personnes intéressées par la santé en lien avec l’association. \nProgramme\n10h00-10h30 : gymnastique Bothmer et présentation de la journée\n10h30-11h15 : introduction au thème par Jessie Delage\n11h30-12h30 : échanges dans le cercle\n12h30-14h00 : repas tiré du sac\n14h00-15h00 : échanges en petits groupes sur le sujet\n15h00-15h15 : gymnastique Bothmer\n15h15-16h30 : échanges dans le grand groupe et conclusion \nParticipation aux frais d’organisation : à partir de 10€ \nLieu : Société Anthroposophique Française\n2 Rue de la Grande Chaumière\, 75006 Paris \nL’APMA s’est fondée sur la défense du libre choix thérapeutique. Elle promeut la médecine anthroposophique qui se met au service de la personne sur son chemin de guérison\, en plaçant son individualité au centre de ce parcours. \nOrganisé par l’APMA\nAssociation de Patients de la médecine Anthroposophique | 13 rue Gassendi | 75014 PARIS\nTéléphone | 01 40 47 03 53 | contact@apma.fr | www.apma.fr 
URL:https://www.rebelle-sante.com/evenement/rencontre-echanges-la-competence-du-patient/
LOCATION:Société anthroposophique française\, 2 Rue de la Grande Chaumière\, Paris\, 75006
CATEGORIES:Colloque
ATTACH;FMTTYPE=image/jpeg:https://www.rebelle-sante.com/wp-content/uploads/are-michael-7092961_1280-2.jpg
ORGANIZER;CN="APMA. Association de Patients de la M%C3%A9decine Anthroposophique":MAILTO:contact@apma.fr
END:VEVENT
BEGIN:VEVENT
DTSTART;TZID=Europe/Paris:20231125T100000
DTEND;TZID=Europe/Paris:20231125T120000
DTSTAMP:20260423T053830
CREATED:20230914T070044Z
LAST-MODIFIED:20230914T070044Z
UID:63457-1700906400-1700913600@www.rebelle-sante.com
SUMMARY:Conférence "La mort et le passage du seuil\, une biographie cosmique"
DESCRIPTION:Dans notre civilisation occidentale\, la mort est très souvent un sujet tabou que l’on évite soigneusement d’aborder. Comment parler d’un tel sujet macabre ? Et si l’on considère la mort d’un point de vue matérialiste\, pourquoi en parlerait-on\, puisque tout s’arrête\, puisqu’il n’y a rien « après » ? \nMais est-ce cela\, la mort … ? \nA l’heure où l’on débat sur les conditions de la fin de vie en France\, \nquel regard portons-nous sur la mort en général\, et sur notre propre mort ? \nComment pouvons-nous faire aujourd’hui un chemin de conscience autour de ce mystère\, que toutes les civilisations ont toujours cherché à approcher et à comprendre ? \nOù trouvons-nous des réponses à nos questions qui cherchent à apporter un sens spirituel à ce grand passage que va vivre tout être humain à la fin de son chemin sur terre ? \nUne vie humaine est bien plus vaste que ce que l’on peut voir et percevoir sur terre. \nEt si la mort était aussi porteuse d’espérance\, de lumière\, de vie ? \n  \nQui étais-je avant \nQue serai-je après \nce bref parcours de vie \nencerclé de mystère ? \nAndrée Chédid \nLe regard offert par l’Anthroposophie et les apports de Rudolf Steiner permet d’entrevoir une lumière et d’ouvrir une porte sur cet invisible\, sur ce passage du seuil\, qui va faire vivre au défunt une biographie\, non plus terrestre\, mais cosmique. \nCette approche permet aussi de se relier plus consciemment au monde des défunts\, en les percevant pleinement vivants dans la sphère de l’esprit. \nLa conférence que je vous propose portera sur ce passage du seuil et la vie de l’âme après la mort dans les sphères planétaires. \nLa mort\, dans la douleur qu’elle engendre pour ceux qui restent sur terre\, est aussi une leçon de vie.
URL:https://www.rebelle-sante.com/evenement/conference-la-mort-et-le-passage-du-seuil-une-biographie-cosmique/
LOCATION:Centre de santé Saint-Jacques\, Centre de santé Saint-Jacques 37 rue des Volontaires\, Paris\, 75015\, France
CATEGORIES:Conférence
ATTACH;FMTTYPE=image/jpeg:https://www.rebelle-sante.com/wp-content/uploads/Hieronymus_Bosch_013-redimensionnee-1.jpg
ORGANIZER;CN="APMA. Association de Patients de la M%C3%A9decine Anthroposophique":MAILTO:contact@apma.fr
END:VEVENT
BEGIN:VEVENT
DTSTART;TZID=Europe/Paris:20230607T203000
DTEND;TZID=Europe/Paris:20230607T220000
DTSTAMP:20260423T053830
CREATED:20230524T102257Z
LAST-MODIFIED:20230524T171140Z
UID:61380-1686169800-1686175200@www.rebelle-sante.com
SUMMARY:APMA - Conférence En Ligne " Les Douze Sens "
DESCRIPTION:Conférence animée par le Docteur Marie-Claude Yannicopoulos\nDepuis Aristote\, nous considérons que l’être humain est pourvu de « 5 sens » (voir son traité « De l’âme »).\nCe n’est qu’au 19ème siècle qu’on y ajouta le « sens musculaire »\, puis la sensation du chaud et du froid ainsi que celle de l’équilibre et celle de la douleur. On en vint ainsi à distinguer 9 sens.\nAu début du 20ème siècle\, Rudolf Steiner a parlé de 10 sens puis\, à partir de 1916\, il en a distingué 12 qu’il a caractérisés de façon très précise.\nIl comparait les organes sensoriels à des « golfes » grâce auxquels le monde extérieur pénètre à l’intérieur du corps humain\, une pénétration passive mais qui demande\, pour être conscientisée\, la participation active de l’âme. Nous pouvons\, en effet\, être « sourd et aveugle » à notre environnement ou\, au contraire\, y être très sensible\, cela en développant notre état de « présence » à cet environnement.\nNous pouvons aussi « cultiver » nos sens et faire ainsi baisser notre « seuil de sensibilité »\, c’est-à-dire notre seuil de réceptivité consciente…\nA travers tous ces sens\, l’homme reçoit des impressions de 3 domaines : \n\n\nDe son corps \n\n\nDes choses et des évènements du monde qui l’entoure \n\n\nDe l’être intérieur des humains qu’il rencontre \n\n\nNous allons étudier ces 3 domaines afin de mettre en évidence leur importante signification pour la vie de l’être humain. \nInscription : https://www.apma.fr/inscription/
URL:https://www.rebelle-sante.com/evenement/apma-conference-en-ligne-les-douze-sens/
CATEGORIES:Conférence
ATTACH;FMTTYPE=image/jpeg:https://www.rebelle-sante.com/wp-content/uploads/couple-g7f32f308c_1920.jpg
ORGANIZER;CN="APMA. Association de Patients de la M%C3%A9decine Anthroposophique":MAILTO:contact@apma.fr
END:VEVENT
BEGIN:VEVENT
DTSTART;TZID=Europe/Paris:20230401T143000
DTEND;TZID=Europe/Paris:20230401T170000
DTSTAMP:20260423T053830
CREATED:20230327T152213Z
LAST-MODIFIED:20230327T152213Z
UID:59566-1680359400-1680368400@www.rebelle-sante.com
SUMMARY:Conférence-atelier sur le goût
DESCRIPTION:animée par Joël Acremant\nau Centre de santé Saint-Jacques\n37 rue des Volontaires – 75015 Paris\nVers une alimentation dynamique\, atelier de re-découverte des quatre goûts en relation avec les tempéraments\nAvec exposé\, expérience réelle de goûts et échanges \nLa conscience moderne éprouve depuis plus d’un siècle le besoin de mieux comprendre la nutrition et ses effets sur la santé. Théories et publications foisonnent sur le sujet. Mais face à cette production prolifique\, comment éviter les diktats des écoles et des chefs de file\, et se réapproprier son mode d’alimentation\, sa nourriture. \n« Ouverte à tous » sans inscription\nParticipation aux frais :\nAdhérents : 10 €\nNon adhérents : 20 € \nRenseignements : secrétariat de l’APMA – 13 rue Gassendi – 75014 Paris\nTél : 01 40 47 03 53 – Email : contact@apma.fr \n  \n 
URL:https://www.rebelle-sante.com/evenement/conference-atelier-sur-le-gout/
LOCATION:Centre de santé Saint-Jacques\, Centre de santé Saint-Jacques 37 rue des Volontaires\, Paris\, 75015\, France
CATEGORIES:Découverte
ATTACH;FMTTYPE=image/jpeg:https://www.rebelle-sante.com/wp-content/uploads/assiette-joel-acrement.jpg
ORGANIZER;CN="APMA. Association de Patients de la M%C3%A9decine Anthroposophique":MAILTO:contact@apma.fr
END:VEVENT
END:VCALENDAR