BEGIN:VCALENDAR
VERSION:2.0
PRODID:-//Rebelle-Santé - ECPv6.15.18//NONSGML v1.0//EN
CALSCALE:GREGORIAN
METHOD:PUBLISH
X-WR-CALNAME:Rebelle-Santé
X-ORIGINAL-URL:https://www.rebelle-sante.com
X-WR-CALDESC:Évènements pour Rebelle-Santé
REFRESH-INTERVAL;VALUE=DURATION:PT1H
X-Robots-Tag:noindex
X-PUBLISHED-TTL:PT1H
BEGIN:VTIMEZONE
TZID:Europe/Paris
BEGIN:DAYLIGHT
TZOFFSETFROM:+0100
TZOFFSETTO:+0200
TZNAME:CEST
DTSTART:20220327T010000
END:DAYLIGHT
BEGIN:STANDARD
TZOFFSETFROM:+0200
TZOFFSETTO:+0100
TZNAME:CET
DTSTART:20221030T010000
END:STANDARD
BEGIN:DAYLIGHT
TZOFFSETFROM:+0100
TZOFFSETTO:+0200
TZNAME:CEST
DTSTART:20230326T010000
END:DAYLIGHT
BEGIN:STANDARD
TZOFFSETFROM:+0200
TZOFFSETTO:+0100
TZNAME:CET
DTSTART:20231029T010000
END:STANDARD
BEGIN:DAYLIGHT
TZOFFSETFROM:+0100
TZOFFSETTO:+0200
TZNAME:CEST
DTSTART:20240331T010000
END:DAYLIGHT
BEGIN:STANDARD
TZOFFSETFROM:+0200
TZOFFSETTO:+0100
TZNAME:CET
DTSTART:20241027T010000
END:STANDARD
END:VTIMEZONE
BEGIN:VEVENT
DTSTART;VALUE=DATE:20230422
DTEND;VALUE=DATE:20230424
DTSTAMP:20260425T061250
CREATED:20230411T091545Z
LAST-MODIFIED:20230411T091545Z
UID:60180-1682121600-1682294399@www.rebelle-sante.com
SUMMARY:Salon du bien-être et de la santé au naturel du Haillan (33)
DESCRIPTION:Le 22 et 23 avril prochain se tiendra notre Salon du bien-être et de la santé au naturel : 55 exposants présents\, 28 conférences. Entrée\, conférences et tombola gratuite. Possibilité de restauration sur place. \n3 conférences médiumniques en salles sur 2 jours avec 3 intervenants différents. \nLe salon se tiendra de 10h à 18h30 à la salle du forum des associations de la ville du Haillan\, avenue Pasteur.
URL:https://www.rebelle-sante.com/evenement/salon-du-bien-etre-et-de-la-sante-au-naturel-du-haillan-33/
LOCATION:Forum des associations du Haillan\, 118\, avenue Pasteur\, Le Haillan\, 33185\, France
CATEGORIES:Salon
ATTACH;FMTTYPE=image/png:https://www.rebelle-sante.com/wp-content/uploads/LE-HAILLAN-SALON-BIEN-ETRE-POST-FACEBOOK-avril-2023.png
ORGANIZER;CN="Association divin-essence ciel 33":MAILTO:divinessenciel33@gmail.com
END:VEVENT
END:VCALENDAR