BEGIN:VCALENDAR
VERSION:2.0
PRODID:-//Rebelle-Santé - ECPv6.15.18//NONSGML v1.0//EN
CALSCALE:GREGORIAN
METHOD:PUBLISH
X-ORIGINAL-URL:https://www.rebelle-sante.com
X-WR-CALDESC:Évènements pour Rebelle-Santé
REFRESH-INTERVAL;VALUE=DURATION:PT1H
X-Robots-Tag:noindex
X-PUBLISHED-TTL:PT1H
BEGIN:VTIMEZONE
TZID:Europe/Paris
BEGIN:DAYLIGHT
TZOFFSETFROM:+0100
TZOFFSETTO:+0200
TZNAME:CEST
DTSTART:20220327T010000
END:DAYLIGHT
BEGIN:STANDARD
TZOFFSETFROM:+0200
TZOFFSETTO:+0100
TZNAME:CET
DTSTART:20221030T010000
END:STANDARD
BEGIN:DAYLIGHT
TZOFFSETFROM:+0100
TZOFFSETTO:+0200
TZNAME:CEST
DTSTART:20230326T010000
END:DAYLIGHT
BEGIN:STANDARD
TZOFFSETFROM:+0200
TZOFFSETTO:+0100
TZNAME:CET
DTSTART:20231029T010000
END:STANDARD
BEGIN:DAYLIGHT
TZOFFSETFROM:+0100
TZOFFSETTO:+0200
TZNAME:CEST
DTSTART:20240331T010000
END:DAYLIGHT
BEGIN:STANDARD
TZOFFSETFROM:+0200
TZOFFSETTO:+0100
TZNAME:CET
DTSTART:20241027T010000
END:STANDARD
BEGIN:DAYLIGHT
TZOFFSETFROM:+0100
TZOFFSETTO:+0200
TZNAME:CEST
DTSTART:20250330T010000
END:DAYLIGHT
BEGIN:STANDARD
TZOFFSETFROM:+0200
TZOFFSETTO:+0100
TZNAME:CET
DTSTART:20251026T010000
END:STANDARD
END:VTIMEZONE
BEGIN:VEVENT
DTSTART;TZID=Europe/Paris:20240317T190000
DTEND;TZID=Europe/Paris:20240317T220000
DTSTAMP:20260425T042226
CREATED:20240307T222439Z
LAST-MODIFIED:20240307T222522Z
UID:87367-1710702000-1710712800@www.rebelle-sante.com
SUMMARY:Je Danse Fait Son Show 2e édition
DESCRIPTION:« JE DANSE FAIT SON SHOW » un spectacle autour de la musique\, l’humour et la danse\, qui se tiendra LE DIMANCHE 17 MARS 2024 À 19H30 à l’Auditorium Saint- Germain (4 rue Félicien 75006 ). \nDes artistes qui partagent les mêmes valeurs – chanteurs\, humoristes\, danseurs viendront se produire : Laura chanteuse\, Léa Haddad\, Eloiz\, Tareek\, Samuel Bambi Max Boublil\, Guillaume Dollé\, Cécile Marx\, Elisa Tovati\, Kim Lewin… Mais aussi Dr Ringot et Dr Saoudi (Psychiatres spécialisés des TCA) \nL’intégralité des recettes de cette soirée sera reversée à l’association pour qu’elle puisse poursuivre son combat contre les Troubles du comportement alimentaire (TCA) : \n\nOrganiser de nouveaux ateliers dans les hôpitaux et cliniques\, développer des antennes relais dans le reste de la France\, sensibiliser et faire de la prévention.\nOuvrir La “Maison Je Danse” une maison ouverte à tous\, dédiée aux personnes souffrant de TCA ainsi qu’à leur famille\, où auront lieu des ateliers et des groupes de prises paroles encadrés par des professionnels de santé.
URL:https://www.rebelle-sante.com/evenement/je-danse-fait-son-show-2e-edition/
CATEGORIES:Fête
ATTACH;FMTTYPE=image/jpeg:https://www.rebelle-sante.com/wp-content/uploads/image0.jpeg
ORGANIZER;CN="association":MAILTO:jedanse@yahoo.com
END:VEVENT
BEGIN:VEVENT
DTSTART;TZID=Europe/Paris:20230514T200000
DTEND;TZID=Europe/Paris:20230514T220000
DTSTAMP:20260425T042226
CREATED:20230310T113820Z
LAST-MODIFIED:20230310T113820Z
UID:59203-1684094400-1684101600@www.rebelle-sante.com
SUMMARY:"Je danse" fait son show
DESCRIPTION:« Je danse – annasso » est une association qui aide les personnes souffrant de troubles du comportement alimentaire. Cette association rend hommage à Anna Soria. \nPour fêter les 3 ans de création de l’association ainsi que pour récolter des fonds pour nos futurs projets « Je Danse » organise une spectacle autour de la musique\, de la danse et de l’humour avec le soutien d’artistes qui partagent les mêmes valeurs.
URL:https://www.rebelle-sante.com/evenement/je-danse-fait-son-show/
LOCATION:théâtre du ranelagh\, 5 rue des vignes 75016\, paris\, 75016\, France
CATEGORIES:Festival
ATTACH;FMTTYPE=image/jpeg:https://www.rebelle-sante.com/wp-content/uploads/331245288_1180338772673653_9073526041463295271_n.jpg
ORGANIZER;CN="association":MAILTO:jedanse@yahoo.com
END:VEVENT
END:VCALENDAR