BEGIN:VCALENDAR
VERSION:2.0
PRODID:-//Rebelle-Santé - ECPv6.15.18//NONSGML v1.0//EN
CALSCALE:GREGORIAN
METHOD:PUBLISH
X-ORIGINAL-URL:https://www.rebelle-sante.com
X-WR-CALDESC:Évènements pour Rebelle-Santé
REFRESH-INTERVAL;VALUE=DURATION:PT1H
X-Robots-Tag:noindex
X-PUBLISHED-TTL:PT1H
BEGIN:VTIMEZONE
TZID:Europe/Paris
BEGIN:DAYLIGHT
TZOFFSETFROM:+0100
TZOFFSETTO:+0200
TZNAME:CEST
DTSTART:20220327T010000
END:DAYLIGHT
BEGIN:STANDARD
TZOFFSETFROM:+0200
TZOFFSETTO:+0100
TZNAME:CET
DTSTART:20221030T010000
END:STANDARD
BEGIN:DAYLIGHT
TZOFFSETFROM:+0100
TZOFFSETTO:+0200
TZNAME:CEST
DTSTART:20230326T010000
END:DAYLIGHT
BEGIN:STANDARD
TZOFFSETFROM:+0200
TZOFFSETTO:+0100
TZNAME:CET
DTSTART:20231029T010000
END:STANDARD
BEGIN:DAYLIGHT
TZOFFSETFROM:+0100
TZOFFSETTO:+0200
TZNAME:CEST
DTSTART:20240331T010000
END:DAYLIGHT
BEGIN:STANDARD
TZOFFSETFROM:+0200
TZOFFSETTO:+0100
TZNAME:CET
DTSTART:20241027T010000
END:STANDARD
END:VTIMEZONE
BEGIN:VEVENT
DTSTART;TZID=Europe/Paris:20230218T173000
DTEND;TZID=Europe/Paris:20230225T090000
DTSTAMP:20260422T181714
CREATED:20221227T103833Z
LAST-MODIFIED:20221227T103833Z
UID:56772-1676741400-1677315600@www.rebelle-sante.com
SUMMARY:Jeûne\, randonnée\, yoga\, gym douce et pilates en Bourgogne (Vézelay)
DESCRIPTION:Jeûne de 7 jours\, du samedi 17h30 au samedi suivant à 9 h \nJeûne de type Buchinger (jus et bouillons filtrés) \n 
URL:https://www.rebelle-sante.com/evenement/jeune-randonnee-yoga-gym-douce-et-pilates-en-bourgogne-vezelay/
ATTACH;FMTTYPE=image/jpeg:https://www.rebelle-sante.com/wp-content/uploads/juin-20214-1-scaled.jpg
ORGANIZER;CN="D%C3%A9tox %C3%A0 la carte (centre agr%C3%A9%C3%A9 FFJR) Martine Willot":MAILTO:detoxalacarte@gmail.com
END:VEVENT
END:VCALENDAR